BEGIN:VCALENDAR
VERSION:2.0
PRODID:-//Palm Beach International Equestrian Center - ECPv3.10//NONSGML v1.0//EN
CALSCALE:GREGORIAN
METHOD:PUBLISH
X-WR-CALNAME:Palm Beach International Equestrian Center
X-ORIGINAL-URL:https://pbiec.coth.com/wp_esp
X-WR-CALDESC:Events for Palm Beach International Equestrian Center
BEGIN:VEVENT
DTSTART:20211229T080000Z
DTEND:20220102T170000Z
DTSTAMP:20211225T210242Z
CREATED:20211221T111800Z
LAST-MODIFIED:20211221T111913Z
UID:31366-1640782800-1641160800@pbiec.coth.com
SUMMARY:ESP Holiday Finale - USEF Premier "AA" & Level 5* Jumper
DESCRIPTION:
URL:https://pbiec.chronofhorse.com/wp_esp/event/esp-holiday-finale-2
LOCATION:3400 Equestrian Club Dr.\, Wellington\, FL\, 33414\, United States
GEO:-80.2720356;26.6334575
X-APPLE-STRUCTURED-LOCATION;VALUE=URI;X-ADDRESS=3400 Equestrian Club Dr. Wellington FL 33414 United States;X-APPLE-RADIUS=500;X-TITLE=3400 Equestrian Club Dr.:geo:-80.2720356,26.6334575
CATEGORIES:Home Page,Hunter/Jumper
END:VEVENT
BEGIN:VEVENT
DTSTART:20220105T080000Z
DTEND:20220109T170000Z
DTSTAMP:20211225T210242Z
CREATED:20211221T112303Z
LAST-MODIFIED:20211221T112303Z
UID:31367-1641387600-1641765600@pbiec.coth.com
SUMMARY:WEF Premiere - USEF Premier "AA" & Level 6* Jumper
DESCRIPTION:
URL:https://pbiec.chronofhorse.com/wp_esp/event/wef-premiere-usef-premier-aa-level-6-jumper
LOCATION:3400 Equestrian Club Dr.\, Wellington\, FL\, 33414\, United States
GEO:-80.2720356;26.6334575
X-APPLE-STRUCTURED-LOCATION;VALUE=URI;X-ADDRESS=3400 Equestrian Club Dr. Wellington FL 33414 United States;X-APPLE-RADIUS=500;X-TITLE=3400 Equestrian Club Dr.:geo:-80.2720356,26.6334575
CATEGORIES:Home Page,Hunter/Jumper
END:VEVENT
BEGIN:VEVENT
DTSTART:20220112T080000Z
DTEND:20220116T170000Z
DTSTAMP:20211225T210242Z
CREATED:20211221T112520Z
LAST-MODIFIED:20211221T113822Z
UID:31370-1641992400-1642370400@pbiec.coth.com
SUMMARY:WEF 1 CSI3* Sponsored by Southern Arches
DESCRIPTION:
URL:https://pbiec.chronofhorse.com/wp_esp/event/wef-1-csi3-sponsored-by-southern-arches
LOCATION:3400 Equestrian Club Dr.\, Wellington\, FL\, 33414\, United States
GEO:-80.2720356;26.6334575
X-APPLE-STRUCTURED-LOCATION;VALUE=URI;X-ADDRESS=3400 Equestrian Club Dr. Wellington FL 33414 United States;X-APPLE-RADIUS=500;X-TITLE=3400 Equestrian Club Dr.:geo:-80.2720356,26.6334575
CATEGORIES:Home Page,Hunter/Jumper
END:VEVENT
BEGIN:VEVENT
DTSTART:20220119T080000Z
DTEND:20220123T170000Z
DTSTAMP:20211225T210242Z
CREATED:20211221T112634Z
LAST-MODIFIED:20211221T112634Z
UID:31371-1642597200-1642975200@pbiec.coth.com
SUMMARY:WEF 2 CSI3* Sponsored by Hygain Feeds
DESCRIPTION:
URL:https://pbiec.chronofhorse.com/wp_esp/event/wef-2-csi3-sponsored-by-hygain-feeds
LOCATION:3400 Equestrian Club Dr.\, Wellington\, FL\, 33414\, United States
GEO:-80.2720356;26.6334575
X-APPLE-STRUCTURED-LOCATION;VALUE=URI;X-ADDRESS=3400 Equestrian Club Dr. Wellington FL 33414 United States;X-APPLE-RADIUS=500;X-TITLE=3400 Equestrian Club Dr.:geo:-80.2720356,26.6334575
CATEGORIES:Home Page,Hunter/Jumper
END:VEVENT
BEGIN:VEVENT
DTSTART:20220125T080000Z
DTEND:20220130T170000Z
DTSTAMP:20211225T210242Z
CREATED:20211221T112809Z
LAST-MODIFIED:20211221T113903Z
UID:31372-1643115600-1643580000@pbiec.coth.com
SUMMARY:WEF 3 CSI4* & CSI2* Sponsored by NetJets®
DESCRIPTION:
URL:https://pbiec.chronofhorse.com/wp_esp/event/wef-3-csi4-csi2-sponsored-by-netjets
LOCATION:FL
CATEGORIES:Home Page,Hunter/Jumper
END:VEVENT
BEGIN:VEVENT
DTSTART:20220201T080000Z
DTEND:20220206T170000Z
DTSTAMP:20211225T210242Z
CREATED:20211221T114102Z
LAST-MODIFIED:20211221T114102Z
UID:31374-1643720400-1644184800@pbiec.coth.com
SUMMARY:WEF 4 CSI4* & CSI2* Sponsored by Bainbridge Companies
DESCRIPTION:
URL:https://pbiec.chronofhorse.com/wp_esp/event/wef-4-csi4-csi2-sponsored-by-bainbridge-companies
LOCATION:3400 Equestrian Club Dr.\, Wellington\, FL\, 33414\, United States
GEO:-80.2720356;26.6334575
X-APPLE-STRUCTURED-LOCATION;VALUE=URI;X-ADDRESS=3400 Equestrian Club Dr. Wellington FL 33414 United States;X-APPLE-RADIUS=500;X-TITLE=3400 Equestrian Club Dr.:geo:-80.2720356,26.6334575
CATEGORIES:Home Page,Hunter/Jumper
END:VEVENT
BEGIN:VEVENT
DTSTART:20220208T080000Z
DTEND:20220213T170000Z
DTSTAMP:20211225T210242Z
CREATED:20211221T114230Z
LAST-MODIFIED:20211221T114230Z
UID:31375-1644325200-1644789600@pbiec.coth.com
SUMMARY:WEF 5 CSI5* & CSI2* Sponsored by Fidelity Investments®
DESCRIPTION:
URL:https://pbiec.chronofhorse.com/wp_esp/event/wef-5-csi5-csi2-sponsored-by-fidelity-investments
LOCATION:3400 Equestrian Club Dr.\, Wellington\, FL\, 33414\, United States
GEO:-80.2720356;26.6334575
X-APPLE-STRUCTURED-LOCATION;VALUE=URI;X-ADDRESS=3400 Equestrian Club Dr. Wellington FL 33414 United States;X-APPLE-RADIUS=500;X-TITLE=3400 Equestrian Club Dr.:geo:-80.2720356,26.6334575
CATEGORIES:Home Page,Hunter/Jumper
END:VEVENT
BEGIN:VEVENT
DTSTART:20220216T080000Z
DTEND:20220220T170000Z
DTSTAMP:20211225T210242Z
CREATED:20211221T114354Z
LAST-MODIFIED:20211221T114354Z
UID:31376-1645016400-1645394400@pbiec.coth.com
SUMMARY:WEF 6 WCHR CSI3* Sponsored by IDA Development
DESCRIPTION:
URL:https://pbiec.chronofhorse.com/wp_esp/event/wef-6-wchr-csi3-sponsored-by-ida-development
LOCATION:3400 Equestrian Club Dr.\, Wellington\, FL\, 33414\, United States
GEO:-80.2720356;26.6334575
X-APPLE-STRUCTURED-LOCATION;VALUE=URI;X-ADDRESS=3400 Equestrian Club Dr. Wellington FL 33414 United States;X-APPLE-RADIUS=500;X-TITLE=3400 Equestrian Club Dr.:geo:-80.2720356,26.6334575
CATEGORIES:Home Page,Hunter/Jumper
END:VEVENT
BEGIN:VEVENT
DTSTART:20220222T080000Z
DTEND:20220227T170000Z
DTSTAMP:20211225T210242Z
CREATED:20211221T114533Z
LAST-MODIFIED:20211221T114533Z
UID:31377-1645534800-1645999200@pbiec.coth.com
SUMMARY:WEF 7 CSI5* & CSI2* Sponsored by Lugano® Diamonds
DESCRIPTION:
URL:https://pbiec.chronofhorse.com/wp_esp/event/wef-7-csi5-csi2-sponsored-by-lugano-diamonds
LOCATION:3400 Equestrian Club Dr.\, Wellington\, FL\, 33414\, United States
GEO:-80.2720356;26.6334575
X-APPLE-STRUCTURED-LOCATION;VALUE=URI;X-ADDRESS=3400 Equestrian Club Dr. Wellington FL 33414 United States;X-APPLE-RADIUS=500;X-TITLE=3400 Equestrian Club Dr.:geo:-80.2720356,26.6334575
CATEGORIES:Home Page,Hunter/Jumper
END:VEVENT
BEGIN:VEVENT
DTSTART:20220301T080000Z
DTEND:20220306T170000Z
DTSTAMP:20211225T210242Z
CREATED:20211221T114836Z
LAST-MODIFIED:20211221T114836Z
UID:31378-1646139600-1646604000@pbiec.coth.com
SUMMARY:WEF 8 CSIO4* Sponsored by Premier Equestrian®
DESCRIPTION:
URL:https://pbiec.chronofhorse.com/wp_esp/event/wef-8-csio4-sponsored-by-premier-equestrian
LOCATION:3400 Equestrian Club Dr.\, Wellington\, FL\, 33414\, United States
GEO:-80.2720356;26.6334575
X-APPLE-STRUCTURED-LOCATION;VALUE=URI;X-ADDRESS=3400 Equestrian Club Dr. Wellington FL 33414 United States;X-APPLE-RADIUS=500;X-TITLE=3400 Equestrian Club Dr.:geo:-80.2720356,26.6334575
CATEGORIES:Home Page,Hunter/Jumper
END:VEVENT
BEGIN:VEVENT
DTSTART:20220308T080000Z
DTEND:20220313T170000Z
DTSTAMP:20211225T210242Z
CREATED:20211221T114953Z
LAST-MODIFIED:20211221T114953Z
UID:31379-1646744400-1647205200@pbiec.coth.com
SUMMARY:WEF 9 CSI5* & CSI2* Sponsored by Douglas Elliman Real Estate
DESCRIPTION:
URL:https://pbiec.chronofhorse.com/wp_esp/event/wef-9-csi5-csi2-sponsored-by-douglas-elliman-real-estate
LOCATION:3400 Equestrian Club Dr.\, Wellington\, FL\, 33414\, United States
GEO:-80.2720356;26.6334575
X-APPLE-STRUCTURED-LOCATION;VALUE=URI;X-ADDRESS=3400 Equestrian Club Dr. Wellington FL 33414 United States;X-APPLE-RADIUS=500;X-TITLE=3400 Equestrian Club Dr.:geo:-80.2720356,26.6334575
CATEGORIES:Home Page,Hunter/Jumper
END:VEVENT
BEGIN:VEVENT
DTSTART:20220316T080000Z
DTEND:20220320T170000Z
DTSTAMP:20211225T210242Z
CREATED:20211221T115148Z
LAST-MODIFIED:20211221T115148Z
UID:31380-1647432000-1647810000@pbiec.coth.com
SUMMARY:WEF 10 CSI4* Sponsored by Horseware® Ireland
DESCRIPTION:
URL:https://pbiec.chronofhorse.com/wp_esp/event/wef-10-csi4-sponsored-by-horseware-ireland
LOCATION:3400 Equestrian Club Dr.\, Wellington\, FL\, 33414\, United States
GEO:-80.2720356;26.6334575
X-APPLE-STRUCTURED-LOCATION;VALUE=URI;X-ADDRESS=3400 Equestrian Club Dr. Wellington FL 33414 United States;X-APPLE-RADIUS=500;X-TITLE=3400 Equestrian Club Dr.:geo:-80.2720356,26.6334575
CATEGORIES:Home Page,Hunter/Jumper
END:VEVENT
BEGIN:VEVENT
DTSTART:20220322T080000Z
DTEND:20220327T170000Z
DTSTAMP:20211225T210242Z
CREATED:20211221T115327Z
LAST-MODIFIED:20211221T115327Z
UID:31381-1647950400-1648414800@pbiec.coth.com
SUMMARY:WEF 11 CSI4* & CSI2*
DESCRIPTION:
URL:https://pbiec.chronofhorse.com/wp_esp/event/wef-11-csi4-csi2
LOCATION:3400 Equestrian Club Dr.\, Wellington\, FL\, 33414\, United States
GEO:-80.2720356;26.6334575
X-APPLE-STRUCTURED-LOCATION;VALUE=URI;X-ADDRESS=3400 Equestrian Club Dr. Wellington FL 33414 United States;X-APPLE-RADIUS=500;X-TITLE=3400 Equestrian Club Dr.:geo:-80.2720356,26.6334575
CATEGORIES:Home Page,Hunter/Jumper
END:VEVENT
BEGIN:VEVENT
DTSTART:20220329T080000Z
DTEND:20220403T170000Z
DTSTAMP:20211225T210242Z
CREATED:20211221T115710Z
LAST-MODIFIED:20211221T115710Z
UID:31382-1648555200-1649019600@pbiec.coth.com
SUMMARY:WEF 12 WCHR CSI5* & CSI2* Sponsored by Rolex
DESCRIPTION:
URL:https://pbiec.chronofhorse.com/wp_esp/event/wef-12-wchr-csi5-csi2-sponsored-by-rolex
LOCATION:3400 Equestrian Club Dr.\, Wellington\, FL\, 33414\, United States
GEO:-80.2720356;26.6334575
X-APPLE-STRUCTURED-LOCATION;VALUE=URI;X-ADDRESS=3400 Equestrian Club Dr. Wellington FL 33414 United States;X-APPLE-RADIUS=500;X-TITLE=3400 Equestrian Club Dr.:geo:-80.2720356,26.6334575
CATEGORIES:Home Page,Hunter/Jumper
END:VEVENT
END:VCALENDAR